BEGIN:VCALENDAR
VERSION:2.0
PRODID:icalendar-ruby
CALSCALE:GREGORIAN
METHOD:PUBLISH
BEGIN:VEVENT
DTSTAMP:20260421T174751Z
UID:6-511691@streetsvillebaptist.ca
DTSTART:20250112T183000Z
DTEND:20250112T201500Z
CLASS:PUBLIC
CREATED:20260421T094418
DESCRIPTION:We gather for worship each Sunday at 10:30 am\n\nOn the first S
 unday of every month\, we celebrate the Lord's Supper\, also called Commun
 ion. \n\n \n 
LAST-MODIFIED:20260421T094418
LOCATION:SBC
SUMMARY:Weekly Worship
URL;VALUE=URI:https://www.streetsvillebaptist.ca/events/weekly-worship/2025
 -01-12
ATTACH;FILENAME=Welcome-.png;FMTTYPE=image/png:https://dq5pwpg1q8ru0.cloudf
 ront.net/2022/12/08/04/52/59/fda6d56f-5088-4601-b6ad-ecf88d79a006/Welcome-
 .png
END:VEVENT
END:VCALENDAR
